BEGIN:VCALENDAR
VERSION:2.0
PRODID:-//nurtureuk - ECPv6.2.8.2//NONSGML v1.0//EN
CALSCALE:GREGORIAN
METHOD:PUBLISH
X-ORIGINAL-URL:https://www.nurtureuk.org
X-WR-CALDESC:Events for nurtureuk
REFRESH-INTERVAL;VALUE=DURATION:PT1H
X-Robots-Tag:noindex
X-PUBLISHED-TTL:PT1H
BEGIN:VTIMEZONE
TZID:Europe/London
BEGIN:DAYLIGHT
TZOFFSETFROM:+0000
TZOFFSETTO:+0100
TZNAME:BST
DTSTART:20240331T010000
END:DAYLIGHT
BEGIN:STANDARD
TZOFFSETFROM:+0100
TZOFFSETTO:+0000
TZNAME:GMT
DTSTART:20241027T010000
END:STANDARD
END:VTIMEZONE
BEGIN:VEVENT
DTSTART;TZID=Europe/London:20241104T160000
DTEND;TZID=Europe/London:20241104T170000
DTSTAMP:20260422T032651
CREATED:20240520T141220Z
LAST-MODIFIED:20240520T141220Z
UID:35604-1730736000-1730739600@www.nurtureuk.org
SUMMARY:Are You Ready to Apply for the Marjorie Boxall Quality Mark Award? 4th November 2024
DESCRIPTION:As the submission and re-submission date approaches\, this one-hour webinar will cover the final checks required. \nAfter the event attendees will receive: \n\nPDF copy of the webinar script\n\nHow: During the session\, the host will share their screen and audio. Attendees are view-only participants. They can interact with the host through chat. \nThe host reserves the rights to hold the recording and audio footage.
URL:https://www.nurtureuk.org/event/are-you-ready-to-apply-for-the-marjorie-boxall-quality-mark-award-4th-november-2024/
LOCATION:online
CATEGORIES:Are You Ready to Apply for the Marjorie Boxall Quality Mark Award?
ATTACH;FMTTYPE=image/jpeg:https://www.nurtureuk.org/wp-content/uploads/2023/09/shutterstock_634019516-2-1-scaled-landscape-88aa324780239cfcd1eae06df32f357d-ibwf2djgzohk.jpg
END:VEVENT
END:VCALENDAR